BEGIN:VCALENDAR
VERSION:2.0
PRODID:-//hacksw/handcal//NONSGML v1.0//EN
BEGIN:VEVENT
SUMMARY:Kermesse de Paques
UID:ab838ac5-e6f6-4b4a-a86b-acb8996c911b
DTSTART:20260411T080000Z
DTEND:20260411T100000Z
LOCATION:Salle Fayelle Complexe sportif du Prieure 35220 CHATEAUBOURG
CATEGORIES:Sportif
STATUS:
DESCRIPTION:<p>informations a venir</p>
URL;VALUE=URI:https://www.hbcchateaubourg.com/evenements/2026/04/11/kermesse-de-paques-2353266
END:VEVENT
END:VCALENDAR
