BEGIN:VCALENDAR
VERSION:2.0
PRODID:-//hacksw/handcal//NONSGML v1.0//EN
BEGIN:VEVENT
SUMMARY:Stage lundi 13 avril : Hand
UID:b3b6522c-d7e1-4069-a605-27e8ee7fb0a7
DTSTART:20260413T080000Z
DTEND:20260413T143000Z
LOCATION:Salle Fayelle Complexe sportif du Prieure 35220 CHATEAUBOURG
CATEGORIES:Stage
STATUS:
DESCRIPTION:<p>Lundi 13 avril :</p>
 
 <ul>
 	<li>Matin
 : handball </li>
 	<li>Apres midi : handball</li>
 </ul>
 
 <p>Les
 jeunes stagiaires serviront de support pour notre ecole d'arbitrage
 donc il y aura de gros temps de matchs.</p>
 
 <p>Categories : U13 /
 U15</p>
URL;VALUE=URI:https://www.hbcchateaubourg.com/evenements/2026/04/13/stage-lundi-13-avril-hand-2432418
END:VEVENT
END:VCALENDAR
