BEGIN:VCALENDAR
VERSION:2.0
PRODID:-//hacksw/handcal//NONSGML v1.0//EN
BEGIN:VEVENT
SUMMARY:U13 G1 contre brocelihand
UID:8e6fe33c-c21d-4c1f-8e3a-629fa1e108a4
DTSTART:20260503T083000Z
DTEND:20260503T103000Z
LOCATION:Salle Fayelle Complexe sportif du Prieure 35220 CHATEAUBOURG
CATEGORIES:Sportif
STATUS:
DESCRIPTION:<p>Bonjour</p>
 
 <p>Rendez-vous a 10h30 pour
 l'echauffement  </p>
 
 <p>Debut du match a 11h15</p>
URL;VALUE=URI:https://www.hbcchateaubourg.com/evenements/2026/05/03/u13-g1-contre-brocelihand-2444772
END:VEVENT
END:VCALENDAR
